BEGIN:VCALENDAR
VERSION:2.0
PRODID:-//Tukios.com/
BEGIN:VEVENT
UID:80ab085c-4e48-49d9-bae8-01c6621e9df9@www.starbucklind.com
DTSTAMP:20260424T012016Z
DTSTART:20260430T170000Z
DTEND:20260430T180000Z
SUMMARY:Funeral Service
DESCRIPTION:
URL:https://www.starbucklind.com/obituaries/eva-thompson
LOCATION: 213 West Olive Avenue  Lompoc CA 93436
GEO:34.6344027;-120.4588598
END:VEVENT
END:VCALENDAR