BEGIN:VCALENDAR
VERSION:2.0
PRODID:-//Tukios.com/
BEGIN:VEVENT
UID:5314e77c-04a7-4ba9-b6a0-597a69fb1919@www.starbucklind.com
DTSTAMP:20260424T012112Z
DTSTART:20260430T180000Z
DTEND:20260430T190000Z
SUMMARY:Burial
DESCRIPTION:
URL:https://www.starbucklind.com/obituaries/eva-thompson
LOCATION: 600 South C Street  Lompoc CA 93436
GEO:34.6299147;-120.4483651
END:VEVENT
END:VCALENDAR