BEGIN:VCALENDAR
VERSION:2.0
PRODID:-//Tukios.com/
BEGIN:VEVENT
UID:6501b6d4-ea2a-4aa4-968a-a57b00c4d533@www.starbucklind.com
DTSTAMP:20260424T011742Z
DTSTART:20260430T200000Z
DTEND:20260430T210000Z
SUMMARY:Celebration of Life
DESCRIPTION:
URL:https://www.starbucklind.com/obituaries/eva-thompson
LOCATION: 100 East Locust Avenue  Lompoc CA 93436
GEO:34.6320566;-120.4580179
END:VEVENT
END:VCALENDAR